{
 "currentVersion": 10.81,
 "serviceDescription": "ST3D_2021/sample_DTM_1m_tif",
 "name": "ST3D_2021/sample_DTM_1m_tif",
 "description": "",
 "extent": {
  "xmin": 494827,
  "ymin": 4818796,
  "xmax": 495339,
  "ymax": 4819281,
  "spatialReference": {
   "wkid": 3765,
   "latestWkid": 3765
  }
 },
 "initialExtent": {
  "xmin": 494827,
  "ymin": 4818796,
  "xmax": 495339,
  "ymax": 4819281,
  "spatialReference": {
   "wkid": 3765,
   "latestWkid": 3765
  }
 },
 "fullExtent": {
  "xmin": 494827,
  "ymin": 4818796,
  "xmax": 495339,
  "ymax": 4819281,
  "spatialReference": {
   "wkid": 3765,
   "latestWkid": 3765
  }
 },
 "pixelSizeX": 1,
 "pixelSizeY": 1,
 "datasetFormat": "TIFF",
 "uncompressedSize": 993280,
 "blockWidth": 128,
 "blockHeight": 128,
 "compressionType": "LZW",
 "bandNames": [
  "Band_1"
 ],
 "allowCopy": true,
 "allowAnalysis": true,
 "bandCount": 1,
 "noDataValue": -9999,
 "noDataValues": [
  -9999
 ],
 "pixelType": "F32",
 "minPixelSize": 0,
 "maxPixelSize": 0,
 "copyrightText": "",
 "serviceDataType": "esriImageServiceDataTypeGeneric",
 "serviceSourceType": "esriImageServiceSourceTypeDataset",
 "minValues": [
  3.729749917984
 ],
 "maxValues": [
  23.837783813477
 ],
 "meanValues": [
  11.928078390777
 ],
 "stdvValues": [
  4.3424379081875
 ],
 "objectIdField": "",
 "fields": [],
 "capabilities": "Image,Metadata,Mensuration",
 "defaultMosaicMethod": "Center",
 "allowedMosaicMethods": "",
 "sortField": "",
 "sortValue": null,
 "sortAscending": true,
 "mosaicOperator": "First",
 "defaultCompressionQuality": 75,
 "defaultResamplingMethod": "Bilinear",
 "maxImageHeight": 4100,
 "maxImageWidth": 15000,
 "allowRasterFunction": true,
 "rasterFunctionInfos": [
  {
   "name": "None",
   "description": "",
   "help": ""
  }
 ],
 "rasterTypeInfos": [
  {
   "name": "Raster Dataset",
   "description": "Supports all ArcGIS Raster Datasets",
   "help": ""
  }
 ],
 "mensurationCapabilities": "Basic",
 "hasHistograms": true,
 "hasColormap": false,
 "hasRasterAttributeTable": false,
 "minScale": 5.91657527591555E8,
 "maxScale": 70.5310735,
 "minLOD": 0,
 "maxLOD": 23,
 "exportTilesAllowed": false,
 "hasMultidimensions": false,
 "supportsStatistics": false,
 "supportsAdvancedQueries": false,
 "editFieldsInfo": null,
 "ownershipBasedAccessControlForRasters": null,
 "allowComputeTiePoints": false,
 "useStandardizedQueries": true,
 "advancedQueryCapabilities": {
  "useStandardizedQueries": true,
  "supportsStatistics": false,
  "supportsOrderBy": false,
  "supportsDistinct": false,
  "supportsPagination": false
 },
 "spatialReference": {
  "wkid": 3765,
  "latestWkid": 3765
 }
}
